BEGIN:VCALENDAR
VERSION:2.0
PRODID:-//Eaglebrooke - ECPv6.15.18//NONSGML v1.0//EN
CALSCALE:GREGORIAN
METHOD:PUBLISH
X-WR-CALNAME:Eaglebrooke
X-ORIGINAL-URL:https://www.eaglebrooke.com
X-WR-CALDESC:Events for Eaglebrooke
REFRESH-INTERVAL;VALUE=DURATION:PT1H
X-Robots-Tag:noindex
X-PUBLISHED-TTL:PT1H
BEGIN:VTIMEZONE
TZID:UTC
BEGIN:STANDARD
TZOFFSETFROM:+0000
TZOFFSETTO:+0000
TZNAME:UTC
DTSTART:20250101T000000
END:STANDARD
END:VTIMEZONE
BEGIN:VEVENT
DTSTART;TZID=UTC:20260605T170000
DTEND;TZID=UTC:20260605T190000
DTSTAMP:20260421T090838
CREATED:20260216T192421Z
LAST-MODIFIED:20260317T134332Z
UID:10000616-1780678800-1780686000@www.eaglebrooke.com
SUMMARY:Member Cornhole Night
DESCRIPTION:Member Cornhole Night in Lakeland\, FL at The Club at Eaglebrooke \n\n\n\nJoin us for Member Cornhole Night at The Club at Eaglebrooke\, held on the first Friday of every month from 5:00 PM to 7:00 PM. This members-only social event in Lakeland\, FL is a great way to connect with fellow members\, enjoy friendly competition\, and kick off your weekend at the Club. Members are welcome to bring guests\, making it a fun and relaxed private club event for everyone. \n\n\n\nOur round robin cornhole format ensures all teams get plenty of playing time\, regardless of experience level. Whether you’re playing to win or just for fun\, prizes will be awarded to our top-performing teams each month. \n\n\n\nCornhole Event Details:\n\n\n\n\nWhen: First Friday of every month | 5:00 PM – 7:00 PM\n\n\n\nEligibility: Members and their guests only\n\n\n\nFormat: Round Robin Cornhole\n\n\n\nEntry Fee: Members $5 | Guest of Member $10\n\n\n\nPrizes: Awarded to top teams\n\n\n\nLocation: The Club at Eaglebrooke\n\n\n\n\nRegistration:\n\n\n\nAdvance registration is encouraged. Email info@eaglebrooke.com to sign up. \n\n\n\nDon’t miss one of Eaglebrooke’s most popular monthly member social events\, combining cornhole\, community\, and friendly competition in a fun club atmosphere.
URL:https://www.eaglebrooke.com/event/member-cornhole-night/2026-06-05/
LOCATION:The Club at Eaglebrooke\, 1300 Eaglebrooke Blvd\, Lakeland\, FL\, 33813\, United States
ATTACH;FMTTYPE=image/jpeg:https://www.eaglebrooke.com/wp-content/uploads/sites/9690/2026/02/cornhole.jpg
END:VEVENT
BEGIN:VEVENT
DTSTART;TZID=UTC:20260703T170000
DTEND;TZID=UTC:20260703T190000
DTSTAMP:20260421T090838
CREATED:20260216T192421Z
LAST-MODIFIED:20260317T134332Z
UID:10000617-1783098000-1783105200@www.eaglebrooke.com
SUMMARY:Member Cornhole Night
DESCRIPTION:Member Cornhole Night in Lakeland\, FL at The Club at Eaglebrooke \n\n\n\nJoin us for Member Cornhole Night at The Club at Eaglebrooke\, held on the first Friday of every month from 5:00 PM to 7:00 PM. This members-only social event in Lakeland\, FL is a great way to connect with fellow members\, enjoy friendly competition\, and kick off your weekend at the Club. Members are welcome to bring guests\, making it a fun and relaxed private club event for everyone. \n\n\n\nOur round robin cornhole format ensures all teams get plenty of playing time\, regardless of experience level. Whether you’re playing to win or just for fun\, prizes will be awarded to our top-performing teams each month. \n\n\n\nCornhole Event Details:\n\n\n\n\nWhen: First Friday of every month | 5:00 PM – 7:00 PM\n\n\n\nEligibility: Members and their guests only\n\n\n\nFormat: Round Robin Cornhole\n\n\n\nEntry Fee: Members $5 | Guest of Member $10\n\n\n\nPrizes: Awarded to top teams\n\n\n\nLocation: The Club at Eaglebrooke\n\n\n\n\nRegistration:\n\n\n\nAdvance registration is encouraged. Email info@eaglebrooke.com to sign up. \n\n\n\nDon’t miss one of Eaglebrooke’s most popular monthly member social events\, combining cornhole\, community\, and friendly competition in a fun club atmosphere.
URL:https://www.eaglebrooke.com/event/member-cornhole-night/2026-07-03/
LOCATION:The Club at Eaglebrooke\, 1300 Eaglebrooke Blvd\, Lakeland\, FL\, 33813\, United States
ATTACH;FMTTYPE=image/jpeg:https://www.eaglebrooke.com/wp-content/uploads/sites/9690/2026/02/cornhole.jpg
END:VEVENT
BEGIN:VEVENT
DTSTART;TZID=UTC:20260807T170000
DTEND;TZID=UTC:20260807T190000
DTSTAMP:20260421T090838
CREATED:20260216T192421Z
LAST-MODIFIED:20260317T134332Z
UID:10000618-1786122000-1786129200@www.eaglebrooke.com
SUMMARY:Member Cornhole Night
DESCRIPTION:Member Cornhole Night in Lakeland\, FL at The Club at Eaglebrooke \n\n\n\nJoin us for Member Cornhole Night at The Club at Eaglebrooke\, held on the first Friday of every month from 5:00 PM to 7:00 PM. This members-only social event in Lakeland\, FL is a great way to connect with fellow members\, enjoy friendly competition\, and kick off your weekend at the Club. Members are welcome to bring guests\, making it a fun and relaxed private club event for everyone. \n\n\n\nOur round robin cornhole format ensures all teams get plenty of playing time\, regardless of experience level. Whether you’re playing to win or just for fun\, prizes will be awarded to our top-performing teams each month. \n\n\n\nCornhole Event Details:\n\n\n\n\nWhen: First Friday of every month | 5:00 PM – 7:00 PM\n\n\n\nEligibility: Members and their guests only\n\n\n\nFormat: Round Robin Cornhole\n\n\n\nEntry Fee: Members $5 | Guest of Member $10\n\n\n\nPrizes: Awarded to top teams\n\n\n\nLocation: The Club at Eaglebrooke\n\n\n\n\nRegistration:\n\n\n\nAdvance registration is encouraged. Email info@eaglebrooke.com to sign up. \n\n\n\nDon’t miss one of Eaglebrooke’s most popular monthly member social events\, combining cornhole\, community\, and friendly competition in a fun club atmosphere.
URL:https://www.eaglebrooke.com/event/member-cornhole-night/2026-08-07/
LOCATION:The Club at Eaglebrooke\, 1300 Eaglebrooke Blvd\, Lakeland\, FL\, 33813\, United States
ATTACH;FMTTYPE=image/jpeg:https://www.eaglebrooke.com/wp-content/uploads/sites/9690/2026/02/cornhole.jpg
END:VEVENT
BEGIN:VEVENT
DTSTART;TZID=UTC:20260904T170000
DTEND;TZID=UTC:20260904T190000
DTSTAMP:20260421T090838
CREATED:20260216T192421Z
LAST-MODIFIED:20260317T134332Z
UID:10000619-1788541200-1788548400@www.eaglebrooke.com
SUMMARY:Member Cornhole Night
DESCRIPTION:Member Cornhole Night in Lakeland\, FL at The Club at Eaglebrooke \n\n\n\nJoin us for Member Cornhole Night at The Club at Eaglebrooke\, held on the first Friday of every month from 5:00 PM to 7:00 PM. This members-only social event in Lakeland\, FL is a great way to connect with fellow members\, enjoy friendly competition\, and kick off your weekend at the Club. Members are welcome to bring guests\, making it a fun and relaxed private club event for everyone. \n\n\n\nOur round robin cornhole format ensures all teams get plenty of playing time\, regardless of experience level. Whether you’re playing to win or just for fun\, prizes will be awarded to our top-performing teams each month. \n\n\n\nCornhole Event Details:\n\n\n\n\nWhen: First Friday of every month | 5:00 PM – 7:00 PM\n\n\n\nEligibility: Members and their guests only\n\n\n\nFormat: Round Robin Cornhole\n\n\n\nEntry Fee: Members $5 | Guest of Member $10\n\n\n\nPrizes: Awarded to top teams\n\n\n\nLocation: The Club at Eaglebrooke\n\n\n\n\nRegistration:\n\n\n\nAdvance registration is encouraged. Email info@eaglebrooke.com to sign up. \n\n\n\nDon’t miss one of Eaglebrooke’s most popular monthly member social events\, combining cornhole\, community\, and friendly competition in a fun club atmosphere.
URL:https://www.eaglebrooke.com/event/member-cornhole-night/2026-09-04/
LOCATION:The Club at Eaglebrooke\, 1300 Eaglebrooke Blvd\, Lakeland\, FL\, 33813\, United States
ATTACH;FMTTYPE=image/jpeg:https://www.eaglebrooke.com/wp-content/uploads/sites/9690/2026/02/cornhole.jpg
END:VEVENT
BEGIN:VEVENT
DTSTART;TZID=UTC:20261002T170000
DTEND;TZID=UTC:20261002T190000
DTSTAMP:20260421T090838
CREATED:20260216T192421Z
LAST-MODIFIED:20260317T134332Z
UID:10000620-1790960400-1790967600@www.eaglebrooke.com
SUMMARY:Member Cornhole Night
DESCRIPTION:Member Cornhole Night in Lakeland\, FL at The Club at Eaglebrooke \n\n\n\nJoin us for Member Cornhole Night at The Club at Eaglebrooke\, held on the first Friday of every month from 5:00 PM to 7:00 PM. This members-only social event in Lakeland\, FL is a great way to connect with fellow members\, enjoy friendly competition\, and kick off your weekend at the Club. Members are welcome to bring guests\, making it a fun and relaxed private club event for everyone. \n\n\n\nOur round robin cornhole format ensures all teams get plenty of playing time\, regardless of experience level. Whether you’re playing to win or just for fun\, prizes will be awarded to our top-performing teams each month. \n\n\n\nCornhole Event Details:\n\n\n\n\nWhen: First Friday of every month | 5:00 PM – 7:00 PM\n\n\n\nEligibility: Members and their guests only\n\n\n\nFormat: Round Robin Cornhole\n\n\n\nEntry Fee: Members $5 | Guest of Member $10\n\n\n\nPrizes: Awarded to top teams\n\n\n\nLocation: The Club at Eaglebrooke\n\n\n\n\nRegistration:\n\n\n\nAdvance registration is encouraged. Email info@eaglebrooke.com to sign up. \n\n\n\nDon’t miss one of Eaglebrooke’s most popular monthly member social events\, combining cornhole\, community\, and friendly competition in a fun club atmosphere.
URL:https://www.eaglebrooke.com/event/member-cornhole-night/2026-10-02/
LOCATION:The Club at Eaglebrooke\, 1300 Eaglebrooke Blvd\, Lakeland\, FL\, 33813\, United States
ATTACH;FMTTYPE=image/jpeg:https://www.eaglebrooke.com/wp-content/uploads/sites/9690/2026/02/cornhole.jpg
END:VEVENT
BEGIN:VEVENT
DTSTART;TZID=UTC:20261106T170000
DTEND;TZID=UTC:20261106T190000
DTSTAMP:20260421T090838
CREATED:20260216T192421Z
LAST-MODIFIED:20260317T134332Z
UID:10000621-1793984400-1793991600@www.eaglebrooke.com
SUMMARY:Member Cornhole Night
DESCRIPTION:Member Cornhole Night in Lakeland\, FL at The Club at Eaglebrooke \n\n\n\nJoin us for Member Cornhole Night at The Club at Eaglebrooke\, held on the first Friday of every month from 5:00 PM to 7:00 PM. This members-only social event in Lakeland\, FL is a great way to connect with fellow members\, enjoy friendly competition\, and kick off your weekend at the Club. Members are welcome to bring guests\, making it a fun and relaxed private club event for everyone. \n\n\n\nOur round robin cornhole format ensures all teams get plenty of playing time\, regardless of experience level. Whether you’re playing to win or just for fun\, prizes will be awarded to our top-performing teams each month. \n\n\n\nCornhole Event Details:\n\n\n\n\nWhen: First Friday of every month | 5:00 PM – 7:00 PM\n\n\n\nEligibility: Members and their guests only\n\n\n\nFormat: Round Robin Cornhole\n\n\n\nEntry Fee: Members $5 | Guest of Member $10\n\n\n\nPrizes: Awarded to top teams\n\n\n\nLocation: The Club at Eaglebrooke\n\n\n\n\nRegistration:\n\n\n\nAdvance registration is encouraged. Email info@eaglebrooke.com to sign up. \n\n\n\nDon’t miss one of Eaglebrooke’s most popular monthly member social events\, combining cornhole\, community\, and friendly competition in a fun club atmosphere.
URL:https://www.eaglebrooke.com/event/member-cornhole-night/2026-11-06/
LOCATION:The Club at Eaglebrooke\, 1300 Eaglebrooke Blvd\, Lakeland\, FL\, 33813\, United States
ATTACH;FMTTYPE=image/jpeg:https://www.eaglebrooke.com/wp-content/uploads/sites/9690/2026/02/cornhole.jpg
END:VEVENT
BEGIN:VEVENT
DTSTART;TZID=UTC:20261204T170000
DTEND;TZID=UTC:20261204T190000
DTSTAMP:20260421T090838
CREATED:20260216T192421Z
LAST-MODIFIED:20260317T134332Z
UID:10000622-1796403600-1796410800@www.eaglebrooke.com
SUMMARY:Member Cornhole Night
DESCRIPTION:Member Cornhole Night in Lakeland\, FL at The Club at Eaglebrooke \n\n\n\nJoin us for Member Cornhole Night at The Club at Eaglebrooke\, held on the first Friday of every month from 5:00 PM to 7:00 PM. This members-only social event in Lakeland\, FL is a great way to connect with fellow members\, enjoy friendly competition\, and kick off your weekend at the Club. Members are welcome to bring guests\, making it a fun and relaxed private club event for everyone. \n\n\n\nOur round robin cornhole format ensures all teams get plenty of playing time\, regardless of experience level. Whether you’re playing to win or just for fun\, prizes will be awarded to our top-performing teams each month. \n\n\n\nCornhole Event Details:\n\n\n\n\nWhen: First Friday of every month | 5:00 PM – 7:00 PM\n\n\n\nEligibility: Members and their guests only\n\n\n\nFormat: Round Robin Cornhole\n\n\n\nEntry Fee: Members $5 | Guest of Member $10\n\n\n\nPrizes: Awarded to top teams\n\n\n\nLocation: The Club at Eaglebrooke\n\n\n\n\nRegistration:\n\n\n\nAdvance registration is encouraged. Email info@eaglebrooke.com to sign up. \n\n\n\nDon’t miss one of Eaglebrooke’s most popular monthly member social events\, combining cornhole\, community\, and friendly competition in a fun club atmosphere.
URL:https://www.eaglebrooke.com/event/member-cornhole-night/2026-12-04/
LOCATION:The Club at Eaglebrooke\, 1300 Eaglebrooke Blvd\, Lakeland\, FL\, 33813\, United States
ATTACH;FMTTYPE=image/jpeg:https://www.eaglebrooke.com/wp-content/uploads/sites/9690/2026/02/cornhole.jpg
END:VEVENT
END:VCALENDAR